BEGIN:VCALENDAR
VERSION:2.0
PRODID:-//eventon.com NONSGML v1.0//EN
CALSCALE:GREGORIAN
METHOD:PUBLISH
BEGIN:VEVENT
UID:69e79373d008d
DTSTAMP:20260421T151043Z
DTSTART:20260429T200000Z
DTEND:20260429T220000Z
LOCATION:
SUMMARY:Ask the Experts: A Community Forum for Brooklyn Homeowners and Consumers
DESCRIPTION:Date and Time: Wednesday\,  April 29\,  2026 from 4:00–6:00 P
 MLocation: Bedford Stuyvesant Restoration\,  1368 Fulton Street\,  1st Floo
 r\,  Brooklyn\,  NY 11216 Join Access Justice Brooklyn\,  IMPACCT Brooklyn\
 ,  and Council Member Chi Ossé for an informational discussion around fore
 closure\,  deed fraud\,  consumer debt and elder law trends in our communit
 y. Attendees[..]\nhttps://www.accessjusticebrooklyn.org/events/ask-the-expe
 rts-a-community-forum-for-brooklyn-homeowners-and-consumers/
URL:https://www.accessjusticebrooklyn.org/events/ask-the-experts-a-community-forum-for-brooklyn-homeowners-and-consumers/
END:VEVENT
END:VCALENDAR